BEGIN:VCALENDAR
VERSION:2.0
PRODID:-//Oroszlányi Bányászati Múzeum - ECPv6.15.17.1//NONSGML v1.0//EN
CALSCALE:GREGORIAN
METHOD:PUBLISH
X-WR-CALNAME:Oroszlányi Bányászati Múzeum
X-ORIGINAL-URL:https://banyaszatimuzeum.hu
X-WR-CALDESC:Események Oroszlányi Bányászati Múzeum
REFRESH-INTERVAL;VALUE=DURATION:PT1H
X-Robots-Tag:noindex
X-PUBLISHED-TTL:PT1H
BEGIN:VTIMEZONE
TZID:Europe/Budapest
BEGIN:DAYLIGHT
TZOFFSETFROM:+0100
TZOFFSETTO:+0200
TZNAME:CEST
DTSTART:20250330T010000
END:DAYLIGHT
BEGIN:STANDARD
TZOFFSETFROM:+0200
TZOFFSETTO:+0100
TZNAME:CET
DTSTART:20251026T010000
END:STANDARD
BEGIN:DAYLIGHT
TZOFFSETFROM:+0100
TZOFFSETTO:+0200
TZNAME:CEST
DTSTART:20260329T010000
END:DAYLIGHT
BEGIN:STANDARD
TZOFFSETFROM:+0200
TZOFFSETTO:+0100
TZNAME:CET
DTSTART:20261025T010000
END:STANDARD
BEGIN:DAYLIGHT
TZOFFSETFROM:+0100
TZOFFSETTO:+0200
TZNAME:CEST
DTSTART:20270328T010000
END:DAYLIGHT
BEGIN:STANDARD
TZOFFSETFROM:+0200
TZOFFSETTO:+0100
TZNAME:CET
DTSTART:20271031T010000
END:STANDARD
END:VTIMEZONE
BEGIN:VEVENT
DTSTART;TZID=Europe/Budapest:20260502T140000
DTEND;TZID=Europe/Budapest:20260502T233000
DTSTAMP:20260425T210330
CREATED:20260421T063536Z
LAST-MODIFIED:20260421T063536Z
UID:6025-1777730400-1777764600@banyaszatimuzeum.hu
SUMMARY:Szénporos Retró Fesztivál
DESCRIPTION:Magnószalag & limonádé – veteránautók\, szakmák\, ízek és muzsika. \nEgyre többen kerestek bennünket a különleges hangulatú programjainkon\, ezért a május elsejei hosszú hétvégén egy igazán egyedi időutazásra invitálunk titeket! Egy olyan napra\, amikor a múlt emlékei\, a bányászhagyományok és a retró életérzés találkoznak egymással. \nA régi idők hangulata visszaköszön a bányák mélyéről is\, de ezen a napon megelevenedik minden\, ami egyszerre nosztalgikus\, izgalmas és közösségi. Veterán járművek\, mesterségek és finom falatok gondoskodnak arról\, hogy kicsik és nagyok egyaránt megtalálják a saját élményüket. \nA program nem csak a retróról szól – hanem az együtt töltött időről\, a felfedezésről és arról a különleges hangulatról is\, amit ez az egyedi ipari környezet ad. \n14:00 – 24:00 Kézműves kirakodó vásár:\nEgész délután és este várnak benneteket az egyedi kézműves portékák: találtok itt fa- és kerámiatárgyakat\, horgolt ajándékokat\, különleges ásványokat\, ékszereket\, egyedi táskákat\, valamint saját készítésű meglepetéseket ás játékokat is. \n14:00 – 17:00 Kovácsbemutató:\nIsmerjétek meg a kovácsmesterség világát testközelből! A látványos bemutató során nemcsak a szikrák és kalapácsütések varázsa ragad magával\, de a bátrabbak a munkafolyamatok egy-egy részét is kipróbálhatják. \n15:00 – 18:00 Járműkiállítások:\nA délután során a látogatók megcsodálhatják az oroszlányi készenléti járműveket\, valamint a veterán autók különleges darabjait\, köztük az Oroszlányi Bányászati Múzeum büszkeségét\, a GAZ–66-os bányamentő autót is.\nIgazi időutazás vár mindenkire – kár lenne kihagyni! \n14:00 – 24:00 Gasztroélmények:\nEnnyi izgalom mellett tőlünk biztosan nem mentek haza éhesen! Régi majálisok ízei: sült kolbász\, lángos\, palacsinta\, amerikai hot-dog és még sok más finomság vár rátok – sőt\, még egy bubizó is beállt a sorba. \n19:00 – 19:30 Hangolódás a bulira:\nKözeledik az este és a Bius Team powered by Nórika forrósítani kezdi a hangulatot egy lendületes\, retró stílusú zenékre épülő zumba bemutatóval. \n20:00 – 24:00 Retró Disco:\nAhogy leszáll az éj\, indul az igazi időutazás! A legnagyobb retró slágerek garantálják\, hogy senki sem marad ülve – tánc\, nosztalgia és hamisítatlan buli hangulat vár mindenkit.\nA szénport a Dilemma & Norboss kavarja fel a régi nótákkal. \nGyertek el\, szeretettel várunk mindenkit – családokat\, barátokat és minden érdeklődőt!\nAz eseményen való részvétel kedvezményes belépőjegy megváltásához kötött\, 6 éves kor alatt a belépés INGYENES.
URL:https://banyaszatimuzeum.hu/esemeny/szenporos-retro-fesztival/
LOCATION:Bányászati Múzeum\, Csákvári utca 45.\, Oroszlány\, 2840
CATEGORIES:fesztivál,gyermekprogram,koncert
ATTACH;FMTTYPE=image/jpeg:https://banyaszatimuzeum.hu/wp-content/uploads/2026/04/majus2esemeny.jpg
ORGANIZER;CN="Oroszl%C3%A1nyi B%C3%A1ny%C3%A1szati M%C3%BAzeum":MAILTO:info@banyaszatimuzeum.hu
END:VEVENT
END:VCALENDAR